BEGIN:VCALENDAR
VERSION:2.0
PRODID:-//Wilton Land Trust - ECPv6.15.20//NONSGML v1.0//EN
CALSCALE:GREGORIAN
METHOD:PUBLISH
X-WR-CALNAME:Wilton Land Trust
X-ORIGINAL-URL:https://wiltonlandtrust.org
X-WR-CALDESC:Events for Wilton Land Trust
REFRESH-INTERVAL;VALUE=DURATION:PT1H
X-Robots-Tag:noindex
X-PUBLISHED-TTL:PT1H
BEGIN:VTIMEZONE
TZID:America/New_York
BEGIN:DAYLIGHT
TZOFFSETFROM:-0500
TZOFFSETTO:-0400
TZNAME:EDT
DTSTART:20250309T070000
END:DAYLIGHT
BEGIN:STANDARD
TZOFFSETFROM:-0400
TZOFFSETTO:-0500
TZNAME:EST
DTSTART:20251102T060000
END:STANDARD
BEGIN:DAYLIGHT
TZOFFSETFROM:-0500
TZOFFSETTO:-0400
TZNAME:EDT
DTSTART:20260308T070000
END:DAYLIGHT
BEGIN:STANDARD
TZOFFSETFROM:-0400
TZOFFSETTO:-0500
TZNAME:EST
DTSTART:20261101T060000
END:STANDARD
BEGIN:DAYLIGHT
TZOFFSETFROM:-0500
TZOFFSETTO:-0400
TZNAME:EDT
DTSTART:20270314T070000
END:DAYLIGHT
BEGIN:STANDARD
TZOFFSETFROM:-0400
TZOFFSETTO:-0500
TZNAME:EST
DTSTART:20271107T060000
END:STANDARD
END:VTIMEZONE
BEGIN:VEVENT
DTSTART;TZID=America/New_York:20260424T100000
DTEND;TZID=America/New_York:20260424T110000
DTSTAMP:20260422T082409
CREATED:20260306T143142Z
LAST-MODIFIED:20260414T154731Z
UID:10000004-1777024800-1777028400@wiltonlandtrust.org
SUMMARY:Books & A Blanket
DESCRIPTION:Inspiring kids to engage with sustainability and literacy through our collaboration with Wilton Library and Wilton Go Green. Only an hour long\, it offers participants an opportunity to create an upcycled craft\, participate in sing-along storytime\, and take a short meadow walk across one of the WLT preserves. Get some fresh air and enjoy storytime with your little one\, maybe even bring a small picnic! \nRSVP for the event here: https://wiltongogreen.org/books-a-blanket/
URL:https://wiltonlandtrust.org/event/books-a-blanket/2026-04-24/
LOCATION:Chestnut Meadows\, 183 Ridgefield Rd\, Wilton\, CT\, 06898\, United States
CATEGORIES:Immersive Learning
ATTACH;FMTTYPE=image/png:https://wiltonlandtrust.org/wp-content/uploads/2026/03/Books-and-a-Blanket-Wilton-Land-Trust.png
ORGANIZER;CN="Wilton Go Green":MAILTO:info@wiltongogreen.org
GEO:41.1998166796;-73.4451220671
X-APPLE-STRUCTURED-LOCATION;VALUE=URI;X-ADDRESS=Chestnut Meadows 183 Ridgefield Rd Wilton CT 06898 United States;X-APPLE-RADIUS=500;X-TITLE=183 Ridgefield Rd:geo:-73.4451220671,41.1998166796
END:VEVENT
BEGIN:VEVENT
DTSTART;TZID=America/New_York:20260509T080000
DTEND;TZID=America/New_York:20260509T093000
DTSTAMP:20260422T082409
CREATED:20260306T143142Z
LAST-MODIFIED:20260414T143241Z
UID:10000005-1778313600-1778319000@wiltonlandtrust.org
SUMMARY:Birds & Binoculars
DESCRIPTION:Get up close with local birdlife in their habitat alongside expert birder and Wilton resident Joe Bear. If you’re a fan of our feathered friends\, you’ll love our guided bird-watching hike scheduled during migration seasons. Open to all ages and experience levels. \nRSVP for the event by completing the form below. \nFill out my LGL Form!
URL:https://wiltonlandtrust.org/event/birds-binoculars/
LOCATION:Schenck’s Island\, 202 Old Ridgefield Rd\, Wilton\, CT\, 06897\, United States
CATEGORIES:Immersive Learning
ATTACH;FMTTYPE=image/jpeg:https://wiltonlandtrust.org/wp-content/uploads/2026/03/Birding-Tours-Wilton-Land-Trust-scaled-e1772815394976.jpg
GEO:41.1914112747;-73.4292777456
X-APPLE-STRUCTURED-LOCATION;VALUE=URI;X-ADDRESS=Schenck’s Island 202 Old Ridgefield Rd Wilton CT 06897 United States;X-APPLE-RADIUS=500;X-TITLE=202 Old Ridgefield Rd:geo:-73.4292777456,41.1914112747
END:VEVENT
BEGIN:VEVENT
DTSTART;TZID=America/New_York:20260517T100000
DTEND;TZID=America/New_York:20260517T110000
DTSTAMP:20260422T082409
CREATED:20260306T143142Z
LAST-MODIFIED:20260414T154731Z
UID:10000007-1779012000-1779015600@wiltonlandtrust.org
SUMMARY:Books & A Blanket
DESCRIPTION:Inspiring kids to engage with sustainability and literacy through our collaboration with Wilton Library and Wilton Go Green. Only an hour long\, it offers participants an opportunity to create an upcycled craft\, participate in sing-along storytime\, and take a short meadow walk across one of the WLT preserves. Get some fresh air and enjoy storytime with your little one\, maybe even bring a small picnic! \nRSVP for the event here: https://wiltongogreen.org/books-a-blanket/
URL:https://wiltonlandtrust.org/event/books-a-blanket/2026-05-17/
LOCATION:Chestnut Meadows\, 183 Ridgefield Rd\, Wilton\, CT\, 06898\, United States
CATEGORIES:Immersive Learning
ATTACH;FMTTYPE=image/png:https://wiltonlandtrust.org/wp-content/uploads/2026/03/Books-and-a-Blanket-Wilton-Land-Trust.png
ORGANIZER;CN="Wilton Go Green":MAILTO:info@wiltongogreen.org
GEO:41.1998166796;-73.4451220671
X-APPLE-STRUCTURED-LOCATION;VALUE=URI;X-ADDRESS=Chestnut Meadows 183 Ridgefield Rd Wilton CT 06898 United States;X-APPLE-RADIUS=500;X-TITLE=183 Ridgefield Rd:geo:-73.4451220671,41.1998166796
END:VEVENT
BEGIN:VEVENT
DTSTART;TZID=America/New_York:20260517T120000
DTEND;TZID=America/New_York:20260517T133000
DTSTAMP:20260422T082409
CREATED:20260306T163613Z
LAST-MODIFIED:20260414T144055Z
UID:10000009-1779019200-1779024600@wiltonlandtrust.org
SUMMARY:Stewardship Sunday: Chestnut Meadows
DESCRIPTION:Chestnut orchard planting and maintenance at Chestnut Meadows with the American Chestnut Foundation. \nThrough Stewardship Sundays\, community members of all ages come together to care for Wilton’s natural landscapes and strengthen their connection to the environment. In just 1.5 hours\, participants help maintain trails\, restore biodiversity\, and support the long-term health of our preserves. This welcoming\, hands-on program is open to everyone who wants to make a meaningful difference in our local environment.
URL:https://wiltonlandtrust.org/event/stewardship-sunday-chestnut-meadows-2026/
LOCATION:Chestnut Meadows\, 183 Ridgefield Rd\, Wilton\, CT\, 06898\, United States
CATEGORIES:Stewardship
ATTACH;FMTTYPE=image/jpeg:https://wiltonlandtrust.org/wp-content/uploads/2026/03/Chestnut-Tree-Planting-Wilton_Land_Trust-scaled-e1772815613480.jpg
GEO:41.1998166796;-73.4451220671
X-APPLE-STRUCTURED-LOCATION;VALUE=URI;X-ADDRESS=Chestnut Meadows 183 Ridgefield Rd Wilton CT 06898 United States;X-APPLE-RADIUS=500;X-TITLE=183 Ridgefield Rd:geo:-73.4451220671,41.1998166796
END:VEVENT
BEGIN:VEVENT
DTSTART;TZID=America/New_York:20260607T120000
DTEND;TZID=America/New_York:20260607T133000
DTSTAMP:20260422T082409
CREATED:20260306T163218Z
LAST-MODIFIED:20260414T143714Z
UID:10000008-1780833600-1780839000@wiltonlandtrust.org
SUMMARY:Stewardship Sunday: Slaughter Fields
DESCRIPTION:Clean up at Slaughter Field \nThrough Stewardship Sundays\, community members of all ages come together to care for Wilton’s natural landscapes and strengthen their connection to the environment. In just 1.5 hours\, participants help maintain trails\, restore biodiversity\, and support the long-term health of our preserves. This welcoming\, hands-on program is open to everyone who wants to make a meaningful difference in our local environment.
URL:https://wiltonlandtrust.org/event/stewardship-sunday-slaughter-fields-2026/
LOCATION:Slaughter Fields\, Nod Hill Rd & Pipers Hill Rd\, Wilton\, 06897\, United States
CATEGORIES:Stewardship
ATTACH;FMTTYPE=image/jpeg:https://wiltonlandtrust.org/wp-content/uploads/2026/03/slaughter-field.jpg
GEO:41.2357819241;-73.460422973
X-APPLE-STRUCTURED-LOCATION;VALUE=URI;X-ADDRESS=Slaughter Fields Nod Hill Rd & Pipers Hill Rd Wilton 06897 United States;X-APPLE-RADIUS=500;X-TITLE=Nod Hill Rd & Pipers Hill Rd:geo:-73.460422973,41.2357819241
END:VEVENT
BEGIN:VEVENT
DTSTART;TZID=America/New_York:20260718T100000
DTEND;TZID=America/New_York:20260718T110000
DTSTAMP:20260422T082409
CREATED:20260306T143143Z
LAST-MODIFIED:20260414T142010Z
UID:10000006-1784368800-1784372400@wiltonlandtrust.org
SUMMARY:Pollinator Walk
DESCRIPTION:A guided hike through the Chestnut Meadows with local lepidopterist\, Victor DeMasi\, to learn how to identify bees\, butterflies\, and other pollinators. This family-friendly event includes a special display of butterfly specimens from the Yale Peabody Museum.
URL:https://wiltonlandtrust.org/event/pollinator-walk/
LOCATION:Chestnut Meadows\, 183 Ridgefield Rd\, Wilton\, CT\, 06898\, United States
CATEGORIES:Immersive Learning
ATTACH;FMTTYPE=image/jpeg:https://wiltonlandtrust.org/wp-content/uploads/2026/03/Pollinator-Walk-Wilton-Land-Trust-scaled-e1772815546381.jpg
GEO:41.1998166796;-73.4451220671
X-APPLE-STRUCTURED-LOCATION;VALUE=URI;X-ADDRESS=Chestnut Meadows 183 Ridgefield Rd Wilton CT 06898 United States;X-APPLE-RADIUS=500;X-TITLE=183 Ridgefield Rd:geo:-73.4451220671,41.1998166796
END:VEVENT
END:VCALENDAR